BEGIN:VCALENDAR
VERSION:2.0
PRODID:-//Chico Shows - ECPv6.15.20//NONSGML v1.0//EN
CALSCALE:GREGORIAN
METHOD:PUBLISH
X-WR-CALNAME:Chico Shows
X-ORIGINAL-URL:https://chicoshows.com
X-WR-CALDESC:Events for Chico Shows
REFRESH-INTERVAL;VALUE=DURATION:PT1H
X-Robots-Tag:noindex
X-PUBLISHED-TTL:PT1H
BEGIN:VTIMEZONE
TZID:America/Los_Angeles
BEGIN:DAYLIGHT
TZOFFSETFROM:-0800
TZOFFSETTO:-0700
TZNAME:PDT
DTSTART:20250309T100000
END:DAYLIGHT
BEGIN:STANDARD
TZOFFSETFROM:-0700
TZOFFSETTO:-0800
TZNAME:PST
DTSTART:20251102T090000
END:STANDARD
BEGIN:DAYLIGHT
TZOFFSETFROM:-0800
TZOFFSETTO:-0700
TZNAME:PDT
DTSTART:20260308T100000
END:DAYLIGHT
BEGIN:STANDARD
TZOFFSETFROM:-0700
TZOFFSETTO:-0800
TZNAME:PST
DTSTART:20261101T090000
END:STANDARD
BEGIN:DAYLIGHT
TZOFFSETFROM:-0800
TZOFFSETTO:-0700
TZNAME:PDT
DTSTART:20270314T100000
END:DAYLIGHT
BEGIN:STANDARD
TZOFFSETFROM:-0700
TZOFFSETTO:-0800
TZNAME:PST
DTSTART:20271107T090000
END:STANDARD
END:VTIMEZONE
BEGIN:VEVENT
DTSTART;TZID=America/Los_Angeles:20260423T200000
DTEND;TZID=America/Los_Angeles:20260423T233000
DTSTAMP:20260422T060824
CREATED:20260319T034754Z
LAST-MODIFIED:20260319T034754Z
UID:479-1776974400-1776987000@chicoshows.com
SUMMARY:Fuckwolf (SF)\, XDS\, Viking Skate Country at Argus
DESCRIPTION:
URL:https://chicoshows.com/event/fuckwolf-sf-xds-viking-skate-country-at-argus/
LOCATION:Argus | Bar + Patio\, 212 West 2nd Street\, Chico\, CA\, 95928\, United States
ATTACH;FMTTYPE=image/jpeg:https://chicoshows.com/wp-content/uploads/2026/03/Fuckwolf-argus.jpg
END:VEVENT
BEGIN:VEVENT
DTSTART;TZID=America/Los_Angeles:20260424T190000
DTEND;TZID=America/Los_Angeles:20260424T220000
DTSTAMP:20260422T060824
CREATED:20260323T235131Z
LAST-MODIFIED:20260323T235214Z
UID:484-1777057200-1777068000@chicoshows.com
SUMMARY:Maskade\, RoaG\, Vinnie Guidera & the Dead Birds
DESCRIPTION:ROCK AND ROLL EXPLOSION!! ALL AGES!!!
URL:https://chicoshows.com/event/maskade-roag-vinnie-guidera-the-dead-birds/
LOCATION:Naked Lounge\, 118 W 2nd St\, Chico\, CA\, 95928\, United States
ATTACH;FMTTYPE=image/png:https://chicoshows.com/wp-content/uploads/2026/03/9F076EF6-24E8-4AF1-9942-CAE3C2AAA12F-scaled.png
END:VEVENT
BEGIN:VEVENT
DTSTART;TZID=America/Los_Angeles:20260501T190000
DTEND;TZID=America/Los_Angeles:20260501T230000
DTSTAMP:20260422T060824
CREATED:20260317T161307Z
LAST-MODIFIED:20260317T161307Z
UID:472-1777662000-1777676400@chicoshows.com
SUMMARY:Lorna Such w/ LabRats
DESCRIPTION:Chico’s very own effortlessly blends groove\, soul and jazz \n\n\n\nLorna Such is a Chico based original seven piece band blending groove driven soul\, funk\, and jazz with rich melodic songwriting. Anchored by deep rhythms and vibrant horn lines\, their music is thoughtful and infectious- songs explore change\, love\, and personal blossoming\, delivered with warmth\, feel\, and undeniable groove. Members of the Lorna Such band have won multiple Chico CAMMIES awards\, including Best Live Act\, Best Female Vocalist\, Best Keyboard\, and Best Bassist. \nLabRats is a dynamic quartet of multi-instrumentalists\, who create a unique blend of jazz fusion\, and hip hop. Shortly after the band’s formation\, LabRats has proven itself to be an integral part of the Northern California music scene. LabRats\, performing all over Sacramento and the Bay Area\, has their growing fanbase clamoring for more of their smooth yet psychedelic sounds. The band has played sold out shows at SF Jazz\, The Crest Theater\, and have shared the stage with artists such at Tower of Power\, Kamasi Washington\, Talib Kweli\, and more.
URL:https://chicoshows.com/event/lorna-such-w-labrats/
LOCATION:Sierra Nevada Big Room\, 1075 East 20th Street\, Chico\, CA\, 95928\, United States
ATTACH;FMTTYPE=image/jpeg:https://chicoshows.com/wp-content/uploads/2026/03/lorna.jpg
END:VEVENT
BEGIN:VEVENT
DTSTART;TZID=America/Los_Angeles:20260501T200000
DTEND;TZID=America/Los_Angeles:20260501T230000
DTSTAMP:20260422T060824
CREATED:20260317T154708Z
LAST-MODIFIED:20260420T172909Z
UID:465-1777665600-1777676400@chicoshows.com
SUMMARY:Shadow Limb\, Curdled Skin & Drench
DESCRIPTION:
URL:https://chicoshows.com/event/shadow-limb-curdled-skin-drench/
LOCATION:Argus | Bar + Patio\, 212 West 2nd Street\, Chico\, CA\, 95928\, United States
ATTACH;FMTTYPE=image/jpeg:https://chicoshows.com/wp-content/uploads/2026/03/drenchcurd.jpeg
END:VEVENT
BEGIN:VEVENT
DTSTART;TZID=America/Los_Angeles:20260502T160000
DTEND;TZID=America/Los_Angeles:20260502T210000
DTSTAMP:20260422T060824
CREATED:20260421T204134Z
LAST-MODIFIED:20260421T204134Z
UID:523-1777737600-1777755600@chicoshows.com
SUMMARY:Rhythm & Riffs
DESCRIPTION:Second Annual Rhythm & Riffs Music Festival\nPresented by Butte College \nFeaturing:\nButte Jazz Big Band\nButte Pop Bands\nButte Jazz Combos\nCSUC Pop Band \nCafe Coda\nSaturday\, May 2\n4–9pm\nFREE EVENT
URL:https://chicoshows.com/event/rhythm-riffs/
LOCATION:Cafe Coda\, 265 Humboldt Avenue\, Chico\,\, CA\, 95928\, United States
ATTACH;FMTTYPE=image/jpeg:https://chicoshows.com/wp-content/uploads/2026/04/coda.jpg
END:VEVENT
BEGIN:VEVENT
DTSTART;TZID=America/Los_Angeles:20260502T200000
DTEND;TZID=America/Los_Angeles:20260502T230000
DTSTAMP:20260422T060824
CREATED:20260218T004346Z
LAST-MODIFIED:20260226T192119Z
UID:382-1777752000-1777762800@chicoshows.com
SUMMARY:Floater
DESCRIPTION:Tickets also available locally at Diamond W Western Wear.
URL:https://chicoshows.com/event/floater/
LOCATION:Senator Theater\, 517 Main Street\, Chico\, CA\, 95928\, United States
ATTACH;FMTTYPE=image/png:https://chicoshows.com/wp-content/uploads/2026/02/float.png
END:VEVENT
BEGIN:VEVENT
DTSTART;TZID=America/Los_Angeles:20260717T190000
DTEND;TZID=America/Los_Angeles:20260717T220000
DTSTAMP:20260422T060824
CREATED:20260416T170915Z
LAST-MODIFIED:20260416T170915Z
UID:512-1784314800-1784325600@chicoshows.com
SUMMARY:Arph\, Death by Dishonor\, Smashed Teeth\, Junim\, The Beauty in Death
DESCRIPTION:SLAM SLAM SLAM!!! HARDCORE DEATHCORE SLAMCORE ALL THE CORES!!! ALL THE AGES ALSO!!!
URL:https://chicoshows.com/event/arph-death-by-dishonor-smashed-teeth-junim-the-beauty-in-death/
LOCATION:Naked Lounge\, 118 W 2nd St\, Chico\, CA\, 95928\, United States
ATTACH;FMTTYPE=image/jpeg:https://chicoshows.com/wp-content/uploads/2026/04/1000006956.jpg
END:VEVENT
BEGIN:VEVENT
DTSTART;TZID=America/Los_Angeles:20260717T190000
DTEND;TZID=America/Los_Angeles:20260717T230000
DTSTAMP:20260422T060824
CREATED:20260317T161514Z
LAST-MODIFIED:20260317T161514Z
UID:475-1784314800-1784329200@chicoshows.com
SUMMARY:Dumpstaphunk
DESCRIPTION:Dumpstaphunk has cemented its reputation as one of the most respected New Orleans musical institutions. Ivan Neville (keyboards/vocals) and Ian Neville (guitar)\, the sons of Aaron Neville and Art “Poppa Funk” Neville respectively\, alongside original member Tony Hall (bass\, guitar\, vocals) have built upon their iconic NOLA legacy as they’ve transformed Dumpstaphunk into the city’s pre-eminent 21st-century funk-fusion export. Both in the studio and on the stage\, their performances have attracted sit-ins from the likes of Carlos Santana\, Flea\, Bob Weir\, George Clinton\, Chaka Khan\, Dave Matthews\, Trombone Shorty\, and members of Phish amongst many others. \n\n\nWith the 2024 passing of elder statesmen\, local legend bassist/vocalist and co-founder of the band Nick Daniels III\, the group continues its latest genesis with next generation additions including Deven Trusclair (drums)\, Alex Wasily (trombone)\, Ashlin Parker (trumpet)\, John Michael Bradford (trumpet)\, Ari Teitel (guitar) and special guest vocalist Rebekkah Todd and others along the way. \nCritical acclaim and undeniable musicality permeate their 4 studio albums and opening slots for the Rolling Stones on their home turf at the New Orleans Mercedes Benz Superdome (2019) and New Orleans Jazz & Heritage Fest (2024). Modernizing and reinvigorating the influential Neville/Meters family groove has been one of the driving forces of Dumpstaphunk since the band spontaneously formed during JazzFest in 2003. Their original music and prolific live performances combine ingenious musicianship excercised within complex funk\, rock\, and R&B arrangements accompanied by soulful quadruple harmonies and Big Easy traditions.
URL:https://chicoshows.com/event/dumpstaphunk/
LOCATION:Sierra Nevada Big Room\, 1075 East 20th Street\, Chico\, CA\, 95928\, United States
ATTACH;FMTTYPE=image/jpeg:https://chicoshows.com/wp-content/uploads/2026/03/Dumpstaphunk.jpg
END:VEVENT
END:VCALENDAR